BEGIN:VCALENDAR
VERSION:2.0
PRODID:-// - ECPv6.15.18//NONSGML v1.0//EN
CALSCALE:GREGORIAN
METHOD:PUBLISH
X-ORIGINAL-URL:https://wsdistricts.co
X-WR-CALDESC:Events for 
REFRESH-INTERVAL;VALUE=DURATION:PT1H
X-Robots-Tag:noindex
X-PUBLISHED-TTL:PT1H
BEGIN:VTIMEZONE
TZID:America/Denver
BEGIN:DAYLIGHT
TZOFFSETFROM:-0700
TZOFFSETTO:-0600
TZNAME:MDT
DTSTART:20220313T090000
END:DAYLIGHT
BEGIN:STANDARD
TZOFFSETFROM:-0600
TZOFFSETTO:-0700
TZNAME:MST
DTSTART:20221106T080000
END:STANDARD
BEGIN:DAYLIGHT
TZOFFSETFROM:-0700
TZOFFSETTO:-0600
TZNAME:MDT
DTSTART:20230312T090000
END:DAYLIGHT
BEGIN:STANDARD
TZOFFSETFROM:-0600
TZOFFSETTO:-0700
TZNAME:MST
DTSTART:20231105T080000
END:STANDARD
BEGIN:DAYLIGHT
TZOFFSETFROM:-0700
TZOFFSETTO:-0600
TZNAME:MDT
DTSTART:20240310T090000
END:DAYLIGHT
BEGIN:STANDARD
TZOFFSETFROM:-0600
TZOFFSETTO:-0700
TZNAME:MST
DTSTART:20241103T080000
END:STANDARD
END:VTIMEZONE
BEGIN:VEVENT
DTSTART;TZID=America/Denver:20230810T080000
DTEND;TZID=America/Denver:20230810T170000
DTSTAMP:20260425T061740
CREATED:20230810T213403Z
LAST-MODIFIED:20230810T213403Z
UID:7364-1691654400-1691686800@wsdistricts.co
SUMMARY:Gardens at North Carefree Special Board Meeting
DESCRIPTION:NOTICE OF BOARD MEETING AND NOTICE TO ISSUE DEBT
URL:https://wsdistricts.co/event/gardens-at-north-carefree-special-board-meeting/
END:VEVENT
BEGIN:VEVENT
DTSTART;TZID=America/Denver:20230810T110000
DTEND;TZID=America/Denver:20230810T120000
DTSTAMP:20260425T061740
CREATED:20230807T131518Z
LAST-MODIFIED:20230807T131518Z
UID:7330-1691665200-1691668800@wsdistricts.co
SUMMARY:Saddlehorn Ranch MD Board Meeting
DESCRIPTION:
URL:https://wsdistricts.co/event/saddlehorn-ranch-md-board-meeting-2/
END:VEVENT
BEGIN:VEVENT
DTSTART;TZID=America/Denver:20230810T183000
DTEND;TZID=America/Denver:20230810T183000
DTSTAMP:20260425T061740
CREATED:20230807T131554Z
LAST-MODIFIED:20230807T131554Z
UID:7332-1691692200-1691692200@wsdistricts.co
SUMMARY:Green Mountain Falls/ Chipita Park Fire Protection District Board Meeting
DESCRIPTION:
URL:https://wsdistricts.co/event/green-mountain-falls-chipita-park-fire-protection-district-board-meeting-7/
END:VEVENT
END:VCALENDAR