BEGIN:VCALENDAR
VERSION:2.0
PRODID:-// - ECPv6.15.18//NONSGML v1.0//EN
CALSCALE:GREGORIAN
METHOD:PUBLISH
X-ORIGINAL-URL:https://wsdistricts.co
X-WR-CALDESC:Events for 
REFRESH-INTERVAL;VALUE=DURATION:PT1H
X-Robots-Tag:noindex
X-PUBLISHED-TTL:PT1H
BEGIN:VTIMEZONE
TZID:America/Denver
BEGIN:DAYLIGHT
TZOFFSETFROM:-0700
TZOFFSETTO:-0600
TZNAME:MDT
DTSTART:20220313T090000
END:DAYLIGHT
BEGIN:STANDARD
TZOFFSETFROM:-0600
TZOFFSETTO:-0700
TZNAME:MST
DTSTART:20221106T080000
END:STANDARD
BEGIN:DAYLIGHT
TZOFFSETFROM:-0700
TZOFFSETTO:-0600
TZNAME:MDT
DTSTART:20230312T090000
END:DAYLIGHT
BEGIN:STANDARD
TZOFFSETFROM:-0600
TZOFFSETTO:-0700
TZNAME:MST
DTSTART:20231105T080000
END:STANDARD
BEGIN:DAYLIGHT
TZOFFSETFROM:-0700
TZOFFSETTO:-0600
TZNAME:MDT
DTSTART:20240310T090000
END:DAYLIGHT
BEGIN:STANDARD
TZOFFSETFROM:-0600
TZOFFSETTO:-0700
TZNAME:MST
DTSTART:20241103T080000
END:STANDARD
END:VTIMEZONE
BEGIN:VEVENT
DTSTART;TZID=America/Denver:20230815T100000
DTEND;TZID=America/Denver:20230815T120000
DTSTAMP:20260423T025205
CREATED:20230814T131611Z
LAST-MODIFIED:20230814T131611Z
UID:7367-1692093600-1692100800@wsdistricts.co
SUMMARY:Cathedral Pines MD Board Meeting
DESCRIPTION:
URL:https://wsdistricts.co/event/cathedral-pines-md-board-meeting-9/
END:VEVENT
BEGIN:VEVENT
DTSTART;TZID=America/Denver:20230815T180000
DTEND;TZID=America/Denver:20230815T190000
DTSTAMP:20260423T025205
CREATED:20230814T131647Z
LAST-MODIFIED:20230814T131647Z
UID:7369-1692122400-1692126000@wsdistricts.co
SUMMARY:Ventana Covenant Committee Board Meeting
DESCRIPTION:
URL:https://wsdistricts.co/event/ventana-covenant-committee-board-meeting-9/
END:VEVENT
END:VCALENDAR